BEGIN:VCALENDAR
VERSION:2.0
PRODID:-//Landesschwimmverband Niedersachsen - ECPv6.15.11//NONSGML v1.0//EN
CALSCALE:GREGORIAN
METHOD:PUBLISH
X-WR-CALNAME:Landesschwimmverband Niedersachsen
X-ORIGINAL-URL:https://lsn-info.de
X-WR-CALDESC:Veranstaltungen für Landesschwimmverband Niedersachsen
REFRESH-INTERVAL;VALUE=DURATION:PT1H
X-Robots-Tag:noindex
X-PUBLISHED-TTL:PT1H
BEGIN:VTIMEZONE
TZID:Europe/Berlin
BEGIN:DAYLIGHT
TZOFFSETFROM:+0100
TZOFFSETTO:+0200
TZNAME:CEST
DTSTART:20250330T010000
END:DAYLIGHT
BEGIN:STANDARD
TZOFFSETFROM:+0200
TZOFFSETTO:+0100
TZNAME:CET
DTSTART:20251026T010000
END:STANDARD
BEGIN:DAYLIGHT
TZOFFSETFROM:+0100
TZOFFSETTO:+0200
TZNAME:CEST
DTSTART:20260329T010000
END:DAYLIGHT
BEGIN:STANDARD
TZOFFSETFROM:+0200
TZOFFSETTO:+0100
TZNAME:CET
DTSTART:20261025T010000
END:STANDARD
BEGIN:DAYLIGHT
TZOFFSETFROM:+0100
TZOFFSETTO:+0200
TZNAME:CEST
DTSTART:20270328T010000
END:DAYLIGHT
BEGIN:STANDARD
TZOFFSETFROM:+0200
TZOFFSETTO:+0100
TZNAME:CET
DTSTART:20271031T010000
END:STANDARD
END:VTIMEZONE
BEGIN:VEVENT
DTSTART;VALUE=DATE:20260423
DTEND;VALUE=DATE:20260427
DTSTAMP:20260425T060056
CREATED:20251010T200531Z
LAST-MODIFIED:20260409T100011Z
UID:22800-1776902400-1777247999@lsn-info.de
SUMMARY:DSV Deutsche Meisterschaften 2026
DESCRIPTION:Ausschreibung:\nDM 2026 | Ausschreibung \n 
URL:https://lsn-info.de/veranstaltung/dsv-deutsche-meisterschaften-2026/
LOCATION:Berlin – SSE\, Paul-Heyse-Straße 26\, 10407 Berlin
CATEGORIES:Schwimmen
ATTACH;FMTTYPE=image/png:https://lsn-info.de/wp-content/uploads/2026/04/DM2026-scaled.png
END:VEVENT
BEGIN:VEVENT
DTSTART;VALUE=DATE:20260425
DTEND;VALUE=DATE:20260427
DTSTAMP:20260425T060056
CREATED:20251010T200138Z
LAST-MODIFIED:20260418T210409Z
UID:22796-1777075200-1777247999@lsn-info.de
SUMMARY:NSV Norddeutsche Mehrkampf-Meisterschaften 2026
DESCRIPTION:Schwimmerischer Mehrkampf für die Jahrgänge 2014+2015 \nAusschreibung:\nNDM SMK 2026 | Ausschreibung \ndsv-Definitionsdatei:\nNDM SMK 2026 | dsv-Definitionsdatei \n\nMeldeergebnis:\nNDM SMK 2026 | Meldeergebnis \n  \n  \n 
URL:https://lsn-info.de/veranstaltung/nsv-norddeutsche-mehrkampf-meisterschaften-2026/
LOCATION:Hamburg – LLZ Schwimmzentrum Dulsberg\, Am Dulsbergbad\, Hamburg\, 22049
CATEGORIES:Schwimmen
ATTACH;FMTTYPE=image/png:https://lsn-info.de/wp-content/uploads/2026/04/NDMSMK2026.png
END:VEVENT
END:VCALENDAR