BEGIN:VCALENDAR
VERSION:2.0
PRODID:-//Landesschwimmverband Niedersachsen - ECPv6.15.11//NONSGML v1.0//EN
CALSCALE:GREGORIAN
METHOD:PUBLISH
X-WR-CALNAME:Landesschwimmverband Niedersachsen
X-ORIGINAL-URL:https://lsn-info.de
X-WR-CALDESC:Veranstaltungen für Landesschwimmverband Niedersachsen
REFRESH-INTERVAL;VALUE=DURATION:PT1H
X-Robots-Tag:noindex
X-PUBLISHED-TTL:PT1H
BEGIN:VTIMEZONE
TZID:Europe/Berlin
BEGIN:DAYLIGHT
TZOFFSETFROM:+0100
TZOFFSETTO:+0200
TZNAME:CEST
DTSTART:20240331T010000
END:DAYLIGHT
BEGIN:STANDARD
TZOFFSETFROM:+0200
TZOFFSETTO:+0100
TZNAME:CET
DTSTART:20241027T010000
END:STANDARD
BEGIN:DAYLIGHT
TZOFFSETFROM:+0100
TZOFFSETTO:+0200
TZNAME:CEST
DTSTART:20250330T010000
END:DAYLIGHT
BEGIN:STANDARD
TZOFFSETFROM:+0200
TZOFFSETTO:+0100
TZNAME:CET
DTSTART:20251026T010000
END:STANDARD
BEGIN:DAYLIGHT
TZOFFSETFROM:+0100
TZOFFSETTO:+0200
TZNAME:CEST
DTSTART:20260329T010000
END:DAYLIGHT
BEGIN:STANDARD
TZOFFSETFROM:+0200
TZOFFSETTO:+0100
TZNAME:CET
DTSTART:20261025T010000
END:STANDARD
END:VTIMEZONE
BEGIN:VEVENT
DTSTART;VALUE=DATE:20251206
DTEND;VALUE=DATE:20251208
DTSTAMP:20260425T132330
CREATED:20241207T160039Z
LAST-MODIFIED:20251203T155717Z
UID:19843-1764979200-1765151999@lsn-info.de
SUMMARY:DSV DMSJ Bundesentscheid 2025
DESCRIPTION:Durchführungsbestimmungen:\nDSV DMSJ 2025 | Durchführungsbestimmungen \nFür das DMSJ Bundesfinale qualifizierte Mannschaften:\nDSV DMSJ 2025 | Qualifizierte Mannschaften \n  \n 
URL:https://lsn-info.de/veranstaltung/dsv-dmsj-bundesentscheid-2025/
CATEGORIES:Schwimmen
ATTACH;FMTTYPE=image/png:https://lsn-info.de/wp-content/uploads/2025/12/dsv_dmsj2025_wup.png
END:VEVENT
BEGIN:VEVENT
DTSTART;VALUE=DATE:20251213
DTEND;VALUE=DATE:20251214
DTSTAMP:20260425T132330
CREATED:20241207T155646Z
LAST-MODIFIED:20251216T190344Z
UID:19833-1765584000-1765670399@lsn-info.de
SUMMARY:LSN Team-Bezirks-Cup 2025
DESCRIPTION:Ausschreibung:\nLSN TC 2025 | Ausschreibung \nMeldeergebnis:\nLSN TC 2025 | Meldeergebnis \nDie aufgeführten Namen im Meldeergebnis sind vorläufig und können bis vor dem jeweiligen Start noch geändert werden. \nProtokoll:\nLSN TC 2025 | Protokoll \ndsv-Ergebnisdatei:\nLSN TC 2025 | dsv-Ergebnisdatei \n  \n  \n 
URL:https://lsn-info.de/veranstaltung/lsn-team-bezirks-cup-2025/
CATEGORIES:Schwimmen
ATTACH;FMTTYPE=image/png:https://lsn-info.de/wp-content/uploads/2023/02/LSN_logo.png
END:VEVENT
BEGIN:VEVENT
DTSTART;VALUE=DATE:20251213
DTEND;VALUE=DATE:20251214
DTSTAMP:20260425T132330
CREATED:20241207T160120Z
LAST-MODIFIED:20241207T160120Z
UID:19845-1765584000-1765670399@lsn-info.de
SUMMARY:NSV DMS 2. Bundesliga 2025
DESCRIPTION:
URL:https://lsn-info.de/veranstaltung/nsv-dms-2-bundesliga-2025/
CATEGORIES:Schwimmen
ATTACH;FMTTYPE=image/png:https://lsn-info.de/wp-content/uploads/2023/02/nsv-logo.png
END:VEVENT
BEGIN:VEVENT
DTSTART;VALUE=DATE:20251213
DTEND;VALUE=DATE:20251215
DTSTAMP:20260425T132330
CREATED:20241207T160000Z
LAST-MODIFIED:20251214T211047Z
UID:19841-1765584000-1765756799@lsn-info.de
SUMMARY:DSV DMS 1. Bundesliga 2025
DESCRIPTION:Protokoll:\nDSV DMS 1.Bundesliga 2025 | Protokoll \ndsv-Ergebnisdatei:\nDSV DMS 1.Bundesliga 2025 | dsv-Ergebnisdatei \n 
URL:https://lsn-info.de/veranstaltung/dsv-dms-1-bundesliga-2025/
CATEGORIES:Schwimmen
ATTACH;FMTTYPE=image/png:https://lsn-info.de/wp-content/uploads/2025/12/dms25_1BL.png
END:VEVENT
BEGIN:VEVENT
DTSTART;VALUE=DATE:20251214
DTEND;VALUE=DATE:20251215
DTSTAMP:20260425T132330
CREATED:20241207T155732Z
LAST-MODIFIED:20251222T164206Z
UID:19835-1765670400-1765756799@lsn-info.de
SUMMARY:LSN DMS Landesliga 2025/26
DESCRIPTION:Durchführungsbestimmungen:\nLSN DMS Landesliga 2025/26 | Durchführungsbestimmungen \ndsv-Definitionsdatei:\nLSN DMS Landesliga 2025/26 | dsv-Definitionsdatei \nWichtig für Vereine\, die mehrere Mannschaften bei der DMS Landesliga am Start haben: Es muss je Mannschaft eine dsv-Meldedatei erzeugt und an die Meldeanschrift gesandt werden! \nMeldeergebnis:\nLSN DMS Landesliga 2025/26 | Meldeergebnis \nProtokoll:\nLSN DMS Landesliga 2025/26 | Protokoll (Korrektur vom 22.12.25)\n(Im vorherigen Protokoll wurde irrtümlich eine alte Punktetabelle verwendet) \ndsv-Ergebnisdatei:\nLSN DMS Landesliga 2025/26 | dsv-Ergebnisdatei \n  \n  \n  \n  \n  \n  \n  \n  \n  \n 
URL:https://lsn-info.de/veranstaltung/lsn-dms-landesliga-2025/
LOCATION:Hannover – Stadionbad\, Robert-Enke-Str. 5\, Hannover\, 30169
CATEGORIES:Schwimmen
ATTACH;FMTTYPE=image/png:https://lsn-info.de/wp-content/uploads/2023/02/LSN_logo.png
END:VEVENT
END:VCALENDAR