BEGIN:VCALENDAR
VERSION:2.0
PRODID:-//Landesschwimmverband Niedersachsen - ECPv6.15.11//NONSGML v1.0//EN
CALSCALE:GREGORIAN
METHOD:PUBLISH
X-ORIGINAL-URL:https://lsn-info.de
X-WR-CALDESC:Veranstaltungen für Landesschwimmverband Niedersachsen
REFRESH-INTERVAL;VALUE=DURATION:PT1H
X-Robots-Tag:noindex
X-PUBLISHED-TTL:PT1H
BEGIN:VTIMEZONE
TZID:Europe/Berlin
BEGIN:DAYLIGHT
TZOFFSETFROM:+0100
TZOFFSETTO:+0200
TZNAME:CEST
DTSTART:20240331T010000
END:DAYLIGHT
BEGIN:STANDARD
TZOFFSETFROM:+0200
TZOFFSETTO:+0100
TZNAME:CET
DTSTART:20241027T010000
END:STANDARD
BEGIN:DAYLIGHT
TZOFFSETFROM:+0100
TZOFFSETTO:+0200
TZNAME:CEST
DTSTART:20250330T010000
END:DAYLIGHT
BEGIN:STANDARD
TZOFFSETFROM:+0200
TZOFFSETTO:+0100
TZNAME:CET
DTSTART:20251026T010000
END:STANDARD
BEGIN:DAYLIGHT
TZOFFSETFROM:+0100
TZOFFSETTO:+0200
TZNAME:CEST
DTSTART:20260329T010000
END:DAYLIGHT
BEGIN:STANDARD
TZOFFSETFROM:+0200
TZOFFSETTO:+0100
TZNAME:CET
DTSTART:20261025T010000
END:STANDARD
END:VTIMEZONE
BEGIN:VEVENT
DTSTART;VALUE=DATE:20250828
DTEND;VALUE=DATE:20250902
DTSTAMP:20260425T183009
CREATED:20250717T081850Z
LAST-MODIFIED:20250717T081910Z
UID:22194-1756339200-1756771199@lsn-info.de
SUMMARY:Be water my friend (BWMF) 2025
DESCRIPTION:U15 Turnier der LSN-Auswahlmannschaft
URL:https://lsn-info.de/veranstaltung/be-water-my-friend-bwmf-2025/
LOCATION:La Piscina de Lloret\, Av. del Rieral 22\, Lloret de Mar\, Girona\, 17310\, Spain
CATEGORIES:Wasserball
ATTACH;FMTTYPE=image/jpeg:https://lsn-info.de/wp-content/uploads/2025/07/BWMF-1.jpg
END:VEVENT
BEGIN:VEVENT
DTSTART;VALUE=DATE:20250906
DTEND;VALUE=DATE:20250908
DTSTAMP:20260425T183009
CREATED:20250717T113227Z
LAST-MODIFIED:20250717T113632Z
UID:22204-1757116800-1757289599@lsn-info.de
SUMMARY:LSN Wasserball-Camp Hannover 1
DESCRIPTION:LSN Wasserball-Camp am Bundesstützpunkt Hannover für Jungen 2014 und jünger.
URL:https://lsn-info.de/veranstaltung/lsn-wasserball-camp-hannover/
LOCATION:Hannover – Sportleistungszentrum\, Ferdinand-Wilhelm-Fricke-Weg 2A\, Hannover\, 30169
CATEGORIES:Wasserball
ATTACH;FMTTYPE=image/jpeg:https://lsn-info.de/wp-content/uploads/2024/02/LSN.jpg
END:VEVENT
BEGIN:VEVENT
DTSTART;VALUE=DATE:20250913
DTEND;VALUE=DATE:20250915
DTSTAMP:20260425T183009
CREATED:20250717T082155Z
LAST-MODIFIED:20250717T082217Z
UID:22199-1757721600-1757894399@lsn-info.de
SUMMARY:Youngster-Trophy 2025
DESCRIPTION:LSN-Auswahlturnier U13 – nach Qualifikation durch den Zwergenpokal 2025 in Chemnitz \n  \n\nNiedersachsen\nBayern\nNRW\nBrandenburg\nSachsen\nBaden-Württemberg
URL:https://lsn-info.de/veranstaltung/youngster-trophy-2025-2/
LOCATION:Potsdam – Sportbad blu\, Brauhausberg 1\, Potsdam\, 14473
CATEGORIES:Wasserball
ATTACH;FMTTYPE=image/png:https://lsn-info.de/wp-content/uploads/2025/07/Orcas-Potsdam.png
ORGANIZER;CN="Orcas Potsdam":MAILTO:info@potsdam-orcas.de
END:VEVENT
BEGIN:VEVENT
DTSTART;VALUE=DATE:20250913
DTEND;VALUE=DATE:20250915
DTSTAMP:20260425T183009
CREATED:20250716T131345Z
LAST-MODIFIED:20250716T131456Z
UID:22185-1757721600-1757894399@lsn-info.de
SUMMARY:Youngster-Trophy 2025
DESCRIPTION:Landesauswahlturnier der besten Mannschaften vom Zwergenpokal 2025. \nErgebnisse Zwergenpokal 2025 (Chemnitz): \n\nNiedersachsen\nBayern\nNRW\nBrandenburg\nSachsen\nBaden-Württemberg
URL:https://lsn-info.de/veranstaltung/youngster-trophy-2025/
LOCATION:Potsdam
ATTACH;FMTTYPE=image/png:https://lsn-info.de/wp-content/uploads/2025/07/Orcas-Potsdam.png
ORGANIZER;CN="Orcas Potsdam":MAILTO:info@potsdam-orcas.de
END:VEVENT
BEGIN:VEVENT
DTSTART;VALUE=DATE:20250920
DTEND;VALUE=DATE:20250922
DTSTAMP:20260425T183009
CREATED:20250717T113353Z
LAST-MODIFIED:20250717T113557Z
UID:22206-1758326400-1758499199@lsn-info.de
SUMMARY:LSN Wasserball-Camp Hannover 2
DESCRIPTION:LSN Wasserball-Camp am Bundesstützpunkt Hannover für Jungen 2014 und jünger.
URL:https://lsn-info.de/veranstaltung/lsn-wasserball-camp-hannover-2/
LOCATION:Hannover – Sportleistungszentrum\, Ferdinand-Wilhelm-Fricke-Weg 2A\, Hannover\, 30169
CATEGORIES:Wasserball
ATTACH;FMTTYPE=image/jpeg:https://lsn-info.de/wp-content/uploads/2024/02/LSN.jpg
END:VEVENT
BEGIN:VEVENT
DTSTART;VALUE=DATE:20250922
DTEND;VALUE=DATE:20250930
DTSTAMP:20260425T183009
CREATED:20250717T112947Z
LAST-MODIFIED:20250717T112947Z
UID:22201-1758499200-1759190399@lsn-info.de
SUMMARY:Mladi Galeb Turnier 2025 Makarska
DESCRIPTION:LSN-Auswahlmannschaft Turnier in Makarska/Kroatien \n 
URL:https://lsn-info.de/veranstaltung/mladi-galeb-turnier-2025-makarska/
CATEGORIES:Wasserball
ATTACH;FMTTYPE=image/png:https://lsn-info.de/wp-content/uploads/2025/07/MLADI-GALEB.png
END:VEVENT
END:VCALENDAR