BEGIN:VCALENDAR
VERSION:2.0
PRODID:-//Landesschwimmverband Niedersachsen - ECPv6.15.11//NONSGML v1.0//EN
CALSCALE:GREGORIAN
METHOD:PUBLISH
X-WR-CALNAME:Landesschwimmverband Niedersachsen
X-ORIGINAL-URL:https://lsn-info.de
X-WR-CALDESC:Veranstaltungen für Landesschwimmverband Niedersachsen
REFRESH-INTERVAL;VALUE=DURATION:PT1H
X-Robots-Tag:noindex
X-PUBLISHED-TTL:PT1H
BEGIN:VTIMEZONE
TZID:Europe/Berlin
BEGIN:DAYLIGHT
TZOFFSETFROM:+0100
TZOFFSETTO:+0200
TZNAME:CEST
DTSTART:20240331T010000
END:DAYLIGHT
BEGIN:STANDARD
TZOFFSETFROM:+0200
TZOFFSETTO:+0100
TZNAME:CET
DTSTART:20241027T010000
END:STANDARD
BEGIN:DAYLIGHT
TZOFFSETFROM:+0100
TZOFFSETTO:+0200
TZNAME:CEST
DTSTART:20250330T010000
END:DAYLIGHT
BEGIN:STANDARD
TZOFFSETFROM:+0200
TZOFFSETTO:+0100
TZNAME:CET
DTSTART:20251026T010000
END:STANDARD
BEGIN:DAYLIGHT
TZOFFSETFROM:+0100
TZOFFSETTO:+0200
TZNAME:CEST
DTSTART:20260329T010000
END:DAYLIGHT
BEGIN:STANDARD
TZOFFSETFROM:+0200
TZOFFSETTO:+0100
TZNAME:CET
DTSTART:20261025T010000
END:STANDARD
END:VTIMEZONE
BEGIN:VEVENT
DTSTART;VALUE=DATE:20250314
DTEND;VALUE=DATE:20250317
DTSTAMP:20260426T052409
CREATED:20241008T184222Z
LAST-MODIFIED:20250316T202006Z
UID:19118-1741910400-1742169599@lsn-info.de
SUMMARY:DSV Deutsche Mastersmeisterschaften Lange Strecke 2025
DESCRIPTION:Ausschreibung:\nDM Masters Lange Strecke 2025 | Ausschreibung \nMeldeergebnis:\nDM Masters Lange Strecke 2025 | Meldeergebnis \nProtokoll:\nDM Masters Lange Strecke 2025 | Protokoll \ndsv-Ergebnisdatei:\nDM Masters Lange Strecke 2025 | dsv-Ergebnisdatei
URL:https://lsn-info.de/veranstaltung/dsv-deutsche-mastersmeisterschaften-lange-strecke-2025/
LOCATION:Wolfsburg – Badeland\, Allerpark 4\, Wolfsburg\, 38448
CATEGORIES:Schwimmen
ATTACH;FMTTYPE=image/png:https://lsn-info.de/wp-content/uploads/2024/10/DSV_DMMLS25.png
END:VEVENT
BEGIN:VEVENT
DTSTART;VALUE=DATE:20250322
DTEND;VALUE=DATE:20250324
DTSTAMP:20260426T052410
CREATED:20241008T184527Z
LAST-MODIFIED:20250324T084103Z
UID:19124-1742601600-1742774399@lsn-info.de
SUMMARY:NSV Norddeutsche Mastersmeisterschaften 2025
DESCRIPTION:Ausschreibung:\nNDMM 2025 | Ausschreibung \ndsv-Definitionsdatei:\nNDMM 2025 | dsv-Definitionsdatei \nMeldeergebnis:\nNDMM 2025 | Meldeergebnis \nProtokoll:\nNDMM 2025 | Protokoll \ndsv-Ergebnisdatei:\nNDMM 2025 | dsv-Ergebnisdatei
URL:https://lsn-info.de/veranstaltung/nsv-norddeutsche-mastersmeisterschaften-2025/
LOCATION:Braunschweig – Sportbad Heidberg\, Sachsendamm 10\, Braunschweig\, 38124\, Deutschland
CATEGORIES:Schwimmen
ATTACH;FMTTYPE=image/png:https://lsn-info.de/wp-content/uploads/2023/02/nsv-logo.png
END:VEVENT
BEGIN:VEVENT
DTSTART;VALUE=DATE:20250329
DTEND;VALUE=DATE:20250331
DTSTAMP:20260426T052410
CREATED:20240531T102103Z
LAST-MODIFIED:20250423T185149Z
UID:17958-1743206400-1743379199@lsn-info.de
SUMMARY:LSN Landesmeisterschaften 2025
DESCRIPTION:Ausschreibung:\nLM 2025 | Ausschreibung\n(aktualisiert: Aufnahme von Para-Regelungen und Hinweis zu Mixedstaffeln bei NDM/DM und Hinweis zu 400m Freistil) \ndsv-Definitionsdatei:\nLM 2025 | dsv-Definitionsdatei (aktualisiert am 12.1.25) \n\nMeldeergebnis:\nLM 2025 | Meldeergebnis \nWichtige Hinweise:\nLM 2025 | Hinweise \nLink zur Veranstaltungsseite des Ausrichters (Meldeergebnis / Protokoll) \nLink zur Veranstaltungsseite des Ausrichters (markiertes Meldeergebnis je Verein / Vereinsergebnisse / Urkunden) \n\nProtokoll:\nLM 2025 | Protokoll \ndsv-Ergebnisdatei:\nLM 2025 | dsv-Ergebnisdatei \nENM-Liste:\nLM 2025 | ENM-Übersicht \n 
URL:https://lsn-info.de/veranstaltung/lsn-landesmeisterschaften-2025/
LOCATION:Braunschweig – Sportbad Heidberg\, Sachsendamm 10\, Braunschweig\, 38124\, Deutschland
CATEGORIES:Schwimmen
ATTACH;FMTTYPE=image/png:https://lsn-info.de/wp-content/uploads/2023/02/LSN_logo.png
END:VEVENT
END:VCALENDAR