BEGIN:VCALENDAR
VERSION:2.0
PRODID:-//Landesschwimmverband Niedersachsen - ECPv6.15.11//NONSGML v1.0//EN
CALSCALE:GREGORIAN
METHOD:PUBLISH
X-WR-CALNAME:Landesschwimmverband Niedersachsen
X-ORIGINAL-URL:https://lsn-info.de
X-WR-CALDESC:Veranstaltungen für Landesschwimmverband Niedersachsen
REFRESH-INTERVAL;VALUE=DURATION:PT1H
X-Robots-Tag:noindex
X-PUBLISHED-TTL:PT1H
BEGIN:VTIMEZONE
TZID:Europe/Berlin
BEGIN:DAYLIGHT
TZOFFSETFROM:+0100
TZOFFSETTO:+0200
TZNAME:CEST
DTSTART:20240331T010000
END:DAYLIGHT
BEGIN:STANDARD
TZOFFSETFROM:+0200
TZOFFSETTO:+0100
TZNAME:CET
DTSTART:20241027T010000
END:STANDARD
BEGIN:DAYLIGHT
TZOFFSETFROM:+0100
TZOFFSETTO:+0200
TZNAME:CEST
DTSTART:20250330T010000
END:DAYLIGHT
BEGIN:STANDARD
TZOFFSETFROM:+0200
TZOFFSETTO:+0100
TZNAME:CET
DTSTART:20251026T010000
END:STANDARD
BEGIN:DAYLIGHT
TZOFFSETFROM:+0100
TZOFFSETTO:+0200
TZNAME:CEST
DTSTART:20260329T010000
END:DAYLIGHT
BEGIN:STANDARD
TZOFFSETFROM:+0200
TZOFFSETTO:+0100
TZNAME:CET
DTSTART:20261025T010000
END:STANDARD
BEGIN:DAYLIGHT
TZOFFSETFROM:+0100
TZOFFSETTO:+0200
TZNAME:CEST
DTSTART:20270328T010000
END:DAYLIGHT
BEGIN:STANDARD
TZOFFSETFROM:+0200
TZOFFSETTO:+0100
TZNAME:CET
DTSTART:20271031T010000
END:STANDARD
END:VTIMEZONE
BEGIN:VEVENT
DTSTART;VALUE=DATE:20260418
DTEND;VALUE=DATE:20260420
DTSTAMP:20260425T060444
CREATED:20250905T214834Z
LAST-MODIFIED:20260420T160853Z
UID:22575-1776470400-1776643199@lsn-info.de
SUMMARY:LSN Landesjahrgangsmeisterschaften 2026
DESCRIPTION:Landesjahrgangsmeisterschaften für die Jahrgänge 2013 bis 2016 incl. SMK für die Jahrgänge 2014+2015 \nAusschreibung:\nLJM 2026 | Ausschreibung (Stand 20.03.2026) \ndsv-Definitionsdatei:\nLJM 2026 | dsv-Definitionsdatei \n\nMeldeergebnis:\nLJM 2026 | Meldeergebnis \n\nProtokoll:\nLJM 2026 | Protokoll \ndsv-Ergebnisdatei:\nLJM 2026 | dsv-Ergebnisdatei \nENM-Übersicht:\nLJM 2026 | ENM-Übersicht \nFür die AK 13 werden am Ende des Protokolls informativ die verschiedenen Kombiwertungen angezeigt\, die für die Qualifikation zum SMK des DSV zur Anwendung kommen. \n\nLink zu den Siegerehrungsfotos vom Samstag \nLink zu den Siegerehrungsfotos vom Sonntag \nLink zu den Siegerehrungsfotos 1500m Freistil \nDie Fotos können unter Nennung des Fotografennamens „Patrick Wallbaum / LSN“ auch für weitere Veröffentlichungen genutzt werden. \n  \n  \n  \n  \n  \n  \n  \n 
URL:https://lsn-info.de/veranstaltung/lsn-landesjahrgangsmeisterschaften-2026/
LOCATION:Hannover – Stadionbad\, Robert-Enke-Str. 5\, Hannover\, 30169
CATEGORIES:Schwimmen
ATTACH;FMTTYPE=image/png:https://lsn-info.de/wp-content/uploads/2023/02/LSN_logo.png
END:VEVENT
BEGIN:VEVENT
DTSTART;VALUE=DATE:20260411
DTEND;VALUE=DATE:20260413
DTSTAMP:20260425T060444
CREATED:20250905T214622Z
LAST-MODIFIED:20260412T202211Z
UID:22573-1775865600-1776038399@lsn-info.de
SUMMARY:LSN Landesmeisterschaften 2026
DESCRIPTION:Road-to-DJM-Wettkampf \nAusschreibung:\nLM 2026 | Ausschreibung \ndsv-Definitionsdatei:\nLM 2026 | dsv-Definitionsdatei (Stand 09.02.2026 – 21:30 Uhr) \n\nMeldeergebnis:\nLM 2026 | Meldeergebnis \n\nProtokoll:\nLM 2026 | Protokoll \ndsv-Ergebnisdatei:\nLM 2026 | dsv-Ergebnisdatei \nENM-Übersicht:\nLM 2026 | ENM-Übersicht \n\nLINK zu den Fotos der Siegerehrungen (Ordner wird sukzessive mit weiteren Fotos ergänzt) \n  \n  \n  \n  \n  \n  \n 
URL:https://lsn-info.de/veranstaltung/lsn-landesmeisterschaften-2026/
LOCATION:Hannover – Stadionbad\, Robert-Enke-Str. 5\, Hannover\, 30169
CATEGORIES:Schwimmen
ATTACH;FMTTYPE=image/png:https://lsn-info.de/wp-content/uploads/2023/02/LSN_logo.png
END:VEVENT
BEGIN:VEVENT
DTSTART;VALUE=DATE:20260314
DTEND;VALUE=DATE:20260316
DTSTAMP:20260425T060444
CREATED:20251010T195609Z
LAST-MODIFIED:20251120T113203Z
UID:22789-1773446400-1773619199@lsn-info.de
SUMMARY:NSV Norddeutsche Mastersmeisterschaften 2026
DESCRIPTION:Ausschreibung:\nNDMM 2026 | Ausschreibung \ndsvDefinitionsdatei:\nNDMM 2026 | dsv-Definitionsdatei \nACHTUNG: Begrenzung der Gesamt-Teilnehmerzahl (siehe Punkt 6) und Pflicht zur Stellung von Kampfrichtern (siehe Punkt 12) \n 
URL:https://lsn-info.de/veranstaltung/nsv-norddeutsche-mastersmeisterschaften-2026/
LOCATION:Hannover – Stadionbad\, Robert-Enke-Str. 5\, Hannover\, 30169
CATEGORIES:Schwimmen
ATTACH;FMTTYPE=image/png:https://lsn-info.de/wp-content/uploads/2023/02/nsv-logo.png
END:VEVENT
BEGIN:VEVENT
DTSTART;VALUE=DATE:20260306
DTEND;VALUE=DATE:20260309
DTSTAMP:20260425T060444
CREATED:20251217T094157Z
LAST-MODIFIED:20251217T094157Z
UID:23604-1772755200-1773014399@lsn-info.de
SUMMARY:DSV Deutsche Masters-Meisterschaften Lange Strecke 2026
DESCRIPTION:Ausschreibung:\nDSV DMML 2026 | Ausschreibung \n 
URL:https://lsn-info.de/veranstaltung/dsv-deutsche-masters-meisterschaften-lange-strecke-2026/
LOCATION:Stuttgart – Sportbad Neckarpark\, Lenore-Volz-Straße 2\, Stuttgart
CATEGORIES:Schwimmen
ATTACH;FMTTYPE=image/png:https://lsn-info.de/wp-content/uploads/2025/12/dmml2026.png
END:VEVENT
BEGIN:VEVENT
DTSTART;TZID=Europe/Berlin:20260301T170000
DTEND;TZID=Europe/Berlin:20260304T140000
DTSTAMP:20260425T060444
CREATED:20251118T131523Z
LAST-MODIFIED:20251118T131725Z
UID:23238-1772384400-1772632800@lsn-info.de
SUMMARY:NK2 Sektionslehrgang Nord - Schwimmen
DESCRIPTION:Sektionslehrgang Nord für NK2-Kader – Schwimmen \nSektion Nord: Schleswig-Holstein\, Hamburg\, Niedersachsen + NRW \nSportart: Becken- und Freiwasserschwimmen \nJahrgänge: 2009-2012 (JEM-Jahrgänge) \n  \nLehrgangsort: Hannover \nUnterkunft: Akademie des Sports – Ferdinand-Wilhelm-Fricke-Weg 10\, 30169 Hannover \nTrainingsstätte: Sportleistungszentrum Hannover – Ferdinand-Wilhelm-Fricke-Weg 2A\, 30169 Hannover \n  \nLehrgangstermin: 01.03.2026 – 04.03.2026 (Sonntag-Mittwoch) \nLehrgangbeginn: 17:00 Uhr \nLehrgangsende: 14:00 Uhr \n  \nDie Einladung wird separat über den Landesverband erfolgen. \n 
URL:https://lsn-info.de/veranstaltung/nk2-sektionslehrgang-nord-schwimmen/
LOCATION:Hannover – Sportleistungszentrum\, Ferdinand-Wilhelm-Fricke-Weg 2A\, Hannover\, 30169
CATEGORIES:Schwimmen,Verband
ATTACH;FMTTYPE=image/png:https://lsn-info.de/wp-content/uploads/2023/02/dsv_logo1.png
END:VEVENT
BEGIN:VEVENT
DTSTART;VALUE=DATE:20260214
DTEND;VALUE=DATE:20260216
DTSTAMP:20260425T060444
CREATED:20251010T195959Z
LAST-MODIFIED:20260215T172813Z
UID:22794-1771027200-1771199999@lsn-info.de
SUMMARY:NSV Norddeutsche Meisterschaften Lange Strecken 2026
DESCRIPTION:Ausschreibung:\nNDM LS 2026 | Ausschreibung (Korrektur vom 29.01.26) \ndsv-Definitionsdatei:\nNDM LS 2026 | dsv-Definitionsdatei (Korrektur vom 29.01.26) \n\nProtokoll:\nNDM LS 2026 | Protokoll \ndsv-Ergebnisdatei:\nNDM LS 2026 | dsv-Ergebnisdatei \n  \n  \n 
URL:https://lsn-info.de/veranstaltung/nsv-norddeutsche-meisterschaften-lange-strecken-2026/
LOCATION:Magdeburg – Schwimmhalle Gr. Diesdorfer Str.\, Grosse Diesdorfer Strasse 104a\, Magdeburg\, 39110
CATEGORIES:Schwimmen
ATTACH;FMTTYPE=image/png:https://lsn-info.de/wp-content/uploads/2026/02/NDMLS2026.png
END:VEVENT
BEGIN:VEVENT
DTSTART;VALUE=DATE:20251214
DTEND;VALUE=DATE:20251215
DTSTAMP:20260425T060444
CREATED:20241207T155732Z
LAST-MODIFIED:20251222T164206Z
UID:19835-1765670400-1765756799@lsn-info.de
SUMMARY:LSN DMS Landesliga 2025/26
DESCRIPTION:Durchführungsbestimmungen:\nLSN DMS Landesliga 2025/26 | Durchführungsbestimmungen \ndsv-Definitionsdatei:\nLSN DMS Landesliga 2025/26 | dsv-Definitionsdatei \nWichtig für Vereine\, die mehrere Mannschaften bei der DMS Landesliga am Start haben: Es muss je Mannschaft eine dsv-Meldedatei erzeugt und an die Meldeanschrift gesandt werden! \nMeldeergebnis:\nLSN DMS Landesliga 2025/26 | Meldeergebnis \nProtokoll:\nLSN DMS Landesliga 2025/26 | Protokoll (Korrektur vom 22.12.25)\n(Im vorherigen Protokoll wurde irrtümlich eine alte Punktetabelle verwendet) \ndsv-Ergebnisdatei:\nLSN DMS Landesliga 2025/26 | dsv-Ergebnisdatei \n  \n  \n  \n  \n  \n  \n  \n  \n  \n 
URL:https://lsn-info.de/veranstaltung/lsn-dms-landesliga-2025/
LOCATION:Hannover – Stadionbad\, Robert-Enke-Str. 5\, Hannover\, 30169
CATEGORIES:Schwimmen
ATTACH;FMTTYPE=image/png:https://lsn-info.de/wp-content/uploads/2023/02/LSN_logo.png
END:VEVENT
BEGIN:VEVENT
DTSTART;VALUE=DATE:20251213
DTEND;VALUE=DATE:20251215
DTSTAMP:20260425T060444
CREATED:20241207T160000Z
LAST-MODIFIED:20251214T211047Z
UID:19841-1765584000-1765756799@lsn-info.de
SUMMARY:DSV DMS 1. Bundesliga 2025
DESCRIPTION:Protokoll:\nDSV DMS 1.Bundesliga 2025 | Protokoll \ndsv-Ergebnisdatei:\nDSV DMS 1.Bundesliga 2025 | dsv-Ergebnisdatei \n 
URL:https://lsn-info.de/veranstaltung/dsv-dms-1-bundesliga-2025/
CATEGORIES:Schwimmen
ATTACH;FMTTYPE=image/png:https://lsn-info.de/wp-content/uploads/2025/12/dms25_1BL.png
END:VEVENT
BEGIN:VEVENT
DTSTART;VALUE=DATE:20251213
DTEND;VALUE=DATE:20251214
DTSTAMP:20260425T060444
CREATED:20241207T160120Z
LAST-MODIFIED:20241207T160120Z
UID:19845-1765584000-1765670399@lsn-info.de
SUMMARY:NSV DMS 2. Bundesliga 2025
DESCRIPTION:
URL:https://lsn-info.de/veranstaltung/nsv-dms-2-bundesliga-2025/
CATEGORIES:Schwimmen
ATTACH;FMTTYPE=image/png:https://lsn-info.de/wp-content/uploads/2023/02/nsv-logo.png
END:VEVENT
BEGIN:VEVENT
DTSTART;VALUE=DATE:20251213
DTEND;VALUE=DATE:20251214
DTSTAMP:20260425T060444
CREATED:20241207T155646Z
LAST-MODIFIED:20251216T190344Z
UID:19833-1765584000-1765670399@lsn-info.de
SUMMARY:LSN Team-Bezirks-Cup 2025
DESCRIPTION:Ausschreibung:\nLSN TC 2025 | Ausschreibung \nMeldeergebnis:\nLSN TC 2025 | Meldeergebnis \nDie aufgeführten Namen im Meldeergebnis sind vorläufig und können bis vor dem jeweiligen Start noch geändert werden. \nProtokoll:\nLSN TC 2025 | Protokoll \ndsv-Ergebnisdatei:\nLSN TC 2025 | dsv-Ergebnisdatei \n  \n  \n 
URL:https://lsn-info.de/veranstaltung/lsn-team-bezirks-cup-2025/
CATEGORIES:Schwimmen
ATTACH;FMTTYPE=image/png:https://lsn-info.de/wp-content/uploads/2023/02/LSN_logo.png
END:VEVENT
BEGIN:VEVENT
DTSTART;VALUE=DATE:20251206
DTEND;VALUE=DATE:20251208
DTSTAMP:20260425T060444
CREATED:20241207T160039Z
LAST-MODIFIED:20251203T155717Z
UID:19843-1764979200-1765151999@lsn-info.de
SUMMARY:DSV DMSJ Bundesentscheid 2025
DESCRIPTION:Durchführungsbestimmungen:\nDSV DMSJ 2025 | Durchführungsbestimmungen \nFür das DMSJ Bundesfinale qualifizierte Mannschaften:\nDSV DMSJ 2025 | Qualifizierte Mannschaften \n  \n 
URL:https://lsn-info.de/veranstaltung/dsv-dmsj-bundesentscheid-2025/
CATEGORIES:Schwimmen
ATTACH;FMTTYPE=image/png:https://lsn-info.de/wp-content/uploads/2025/12/dsv_dmsj2025_wup.png
END:VEVENT
BEGIN:VEVENT
DTSTART;VALUE=DATE:20251128
DTEND;VALUE=DATE:20251201
DTSTAMP:20260425T060444
CREATED:20250820T073852Z
LAST-MODIFIED:20251130T154904Z
UID:22417-1764288000-1764547199@lsn-info.de
SUMMARY:DSV Deutsche Kurzbahnmeisterschaften Masters 2025
DESCRIPTION:Ausschreibung:\nDKMM 2025 | Ausschreibung \n\nProtokoll:\nDKMM 2025 | Protokoll \ndsv-Ergebnisdatei:\nDKMM 2025 | dsv-Ergebnisdatei \n  \n 
URL:https://lsn-info.de/veranstaltung/dsv-deutsche-kurzbahnmeisterschaften-masters-2025/
LOCATION:Essen – Sportbad Thurmfeld\, Reckhammerweg 84\, Essen\, 45141
CATEGORIES:Schwimmen
ATTACH;FMTTYPE=image/jpeg:https://lsn-info.de/wp-content/uploads/2025/08/DKMM2025.jpg
END:VEVENT
BEGIN:VEVENT
DTSTART;VALUE=DATE:20251122
DTEND;VALUE=DATE:20251124
DTSTAMP:20260425T060444
CREATED:20241207T160425Z
LAST-MODIFIED:20251123T205508Z
UID:19849-1763769600-1763942399@lsn-info.de
SUMMARY:NSV Norddeutscher Jugendländervergleich 2025
DESCRIPTION:Der Norddeutsche Jugendländervergleich ist ein Vergleichswettkampf der Norddeutschen Auswahlmannschaften. \nDer LSN nominiert nach den Landeskurzbahnmeisterschaft (Jahrgang 2012 nach der Landeskurzbahnmeisterschaft der Jahrgänge) das Auswahlteam und lädt dies ein. \nIn diesem Jahr starten die Jahrgänge 2010-2012. \nBeginn der Veranstaltung ist Freitag\, der 21.11.2025 mit einem kennenlernen und gemeinsamen Training der Auswahlmannschaft in Hannover. Danach fährt das Team gemeinsam mit dem Reisebus nach Lübeck und übernachtet in einer Jugendherberge. Samstag und Sonntag findet der Wettkampf statt. Nach dem Wettkampf fährt das Team wieder gemeinsam mit dem Reisebus zurück nach Hannover. \nInformationen zum Wettkampf ist Ausschreibung zu entnehmen: Jugendlaendervergleich-2025-Ausschreibung \n\nProtokoll:\nNLV 2025 | Protokoll \ndsv-Ergebnisdatei:\nNLV 2025 | dsv-Ergebnisdatei \n 
URL:https://lsn-info.de/veranstaltung/nsv-norddeutsche-jugendlaendervergleich-2025/
CATEGORIES:Schwimmen
ATTACH;FMTTYPE=image/png:https://lsn-info.de/wp-content/uploads/2023/02/nsv-logo.png
END:VEVENT
BEGIN:VEVENT
DTSTART;VALUE=DATE:20251122
DTEND;VALUE=DATE:20251123
DTSTAMP:20260425T060444
CREATED:20241207T160335Z
LAST-MODIFIED:20251122T132929Z
UID:19847-1763769600-1763855999@lsn-info.de
SUMMARY:NSV Norddeutscher Nachwuchsländerkampf 2025
DESCRIPTION:Der Norddeutsche Nachwuchsländerkampf ist ein Vergleichswettkampf der Norddeutschen Auswahlmannschaften in Berlin. \nDer LSN nominiert nach den Landeskurzbahnmeisterschaft der Jahrgänge das Auswahlteam und lädt dies ein. \nIn diesem Jahr starten die Jahrgänge 2013-2015. \nBeginn der Veranstaltung ist Freitag\, der 21.11.2025 mit einem Kennenlernen und gemeinsamen Training der Auswahlmannschaft in Hannover. Danach fährt das Team gemeinsam mit dem Reisebus nach Berlin und übernachtet in einem Jugendhotel. Samstag nach dem Wettkampf fährt das Team wieder gemeinsam mit dem Reisebus nach Hannover. \nInformationen zum Wettkampf ist der Ausschreibung zu entnehmen: 2025nwlk \nMeldeergebnis und Protokoll sind der Veranstaltungsseite zu entnehmen: Meldeergebnisse – schwimmen.berlin \n\nProtokoll:\nNNLK 2025 | Protokoll \ndsv-Ergebnisdatei:\nNNLK 2025 | dsv-Ergebnisdatei \n 
URL:https://lsn-info.de/veranstaltung/nsv-norddeutscher-nachwuchslaenderkampf-2025/
CATEGORIES:Schwimmen
ATTACH;FMTTYPE=image/png:https://lsn-info.de/wp-content/uploads/2023/02/nsv-logo.png
END:VEVENT
BEGIN:VEVENT
DTSTART;VALUE=DATE:20251121
DTEND;VALUE=DATE:20251124
DTSTAMP:20260425T060444
CREATED:20250716T130526Z
LAST-MODIFIED:20250716T130526Z
UID:22182-1763683200-1763942399@lsn-info.de
SUMMARY:Nico Trophy 2025
DESCRIPTION:Landesauswahlturnier der Jahrgänge 2013-2016
URL:https://lsn-info.de/veranstaltung/nico-trophy-2025/
LOCATION:Stuttgart – Sportbad Neckarpark\, Lenore-Volz-Straße 2\, Stuttgart
CATEGORIES:Wasserball
ATTACH;FMTTYPE=image/png:https://lsn-info.de/wp-content/uploads/2025/07/Logo-BaWue.png
END:VEVENT
BEGIN:VEVENT
DTSTART;TZID=Europe/Berlin:20251120T080000
DTEND;TZID=Europe/Berlin:20251120T170000
DTSTAMP:20260425T060444
CREATED:20251120T113624Z
LAST-MODIFIED:20251120T113624Z
UID:23257-1763625600-1763658000@lsn-info.de
SUMMARY:LSN DMS Landesliga 26/27
DESCRIPTION:Bewerbungen zur Ausrichtung bitte bis 30.03.2026 an die LSN-Mailanschrift \n 
URL:https://lsn-info.de/veranstaltung/lsn-dms-landesliga-26-27/
END:VEVENT
BEGIN:VEVENT
DTSTART;VALUE=DATE:20251113
DTEND;VALUE=DATE:20251117
DTSTAMP:20260425T060444
CREATED:20241207T155831Z
LAST-MODIFIED:20251024T205257Z
UID:19837-1762992000-1763337599@lsn-info.de
SUMMARY:DSV Deutsche Kurzbahnmeisterschaften 2025
DESCRIPTION:Ausschreibung:\nDKM 2025 | Ausschreibung \n 
URL:https://lsn-info.de/veranstaltung/dsv-deutsche-kurzbahnmeisterschaften-2025/
CATEGORIES:Schwimmen
ATTACH;FMTTYPE=image/png:https://lsn-info.de/wp-content/uploads/2025/10/DKM2025.png
END:VEVENT
BEGIN:VEVENT
DTSTART;VALUE=DATE:20251108
DTEND;VALUE=DATE:20251110
DTSTAMP:20260425T060444
CREATED:20241207T155550Z
LAST-MODIFIED:20251109T175213Z
UID:19831-1762560000-1762732799@lsn-info.de
SUMMARY:LSN Landesjahrgangsmeisterschaften Kurzbahn 2025
DESCRIPTION:Ausschreibung:\nLKJM 2025 | Ausschreibung \ndsv-Definitionsdatei:\nLKJM 2025 | dsv-Definitionsdatei \nBitte beachtet die Abmelderegelung für die Strecken ab 400m! Alle anderen Strecken können nicht abgemeldet werden. \n\nMeldeergebnis:\nLKJM 2025 | Meldeergebnis \nDie markierten Meldeergebnisse je Verein sowie die Bahnverteilung je Verein findet Ihr auf der Veranstaltungsseite des Ausrichters. \n\nProtokoll:\nLKJM 2025 | Protokoll \ndsv-Ergebnisdatei:\nLKJM 2025 | dsv-Ergebnisdatei \nENM-Übersicht:\nLKJM 2025 | ENM-Liste \nDie einzelnen Vereinsergebnissen und Urkunden findet Ihr auf der Veranstaltungsseite des Ausrichters. \n  \n  \n  \n  \n 
URL:https://lsn-info.de/veranstaltung/lsn-landesjahrgangsmeisterschaften-kurzbahn-2025/
LOCATION:Hannover – Stadionbad\, Robert-Enke-Str. 5\, Hannover\, 30169
CATEGORIES:Schwimmen
ATTACH;FMTTYPE=image/png:https://lsn-info.de/wp-content/uploads/2023/02/LSN_logo.png
END:VEVENT
BEGIN:VEVENT
DTSTART;VALUE=DATE:20251108
DTEND;VALUE=DATE:20251109
DTSTAMP:20260425T060444
CREATED:20241207T155915Z
LAST-MODIFIED:20241207T155915Z
UID:19839-1762560000-1762646399@lsn-info.de
SUMMARY:DSV DMS Masters Bundesfinale 2025
DESCRIPTION:
URL:https://lsn-info.de/veranstaltung/dsv-dms-masters-bundesfinale-2025/
CATEGORIES:Schwimmen
ATTACH;FMTTYPE=image/png:https://lsn-info.de/wp-content/uploads/2023/02/dsv_logo1.png
END:VEVENT
BEGIN:VEVENT
DTSTART;VALUE=DATE:20251101
DTEND;VALUE=DATE:20251103
DTSTAMP:20260425T060444
CREATED:20241207T155415Z
LAST-MODIFIED:20251102T192223Z
UID:19828-1761955200-1762127999@lsn-info.de
SUMMARY:LSN Landeskurzbahnmeisterschaften 2025
DESCRIPTION:Ausschreibung:\nLKM 2025 | Ausschreibung \ndsv-Definitionsdatei:\nLKM 2025 | dsv-Definitionsdatei \nBitte beachtet die Abmelderegelung für die Strecken ab 400m! Alle anderen Strecken können nicht abgemeldet werden. \n\nMeldeergebnis:\nLKM 2025 | Meldeergebnis (aktueller Stand 26.10. – 13:51 Uhr) \nDie markierten Meldeergebnisse je Verein sowie die Bahnverteilung je Verein findet Ihr auf der Veranstaltungsseite des Ausrichters. \n\nProtokoll:\nLKM 2025 | Protokoll \ndsv-Ergebnisdatei:\nLKM 2025 | dsv-Ergebnisdatei \nENM-Übersicht:\nLKM 2025 | ENM-Übersicht \n  \n  \n 
URL:https://lsn-info.de/veranstaltung/lsn-landeskurzbahnmeisterschaften-2025/
LOCATION:Hannover – Stadionbad\, Robert-Enke-Str. 5\, Hannover\, 30169
CATEGORIES:Schwimmen
ATTACH;FMTTYPE=image/png:https://lsn-info.de/wp-content/uploads/2023/02/LSN_logo.png
END:VEVENT
BEGIN:VEVENT
DTSTART;VALUE=DATE:20251012
DTEND;VALUE=DATE:20251013
DTSTAMP:20260425T060444
CREATED:20250625T204311Z
LAST-MODIFIED:20251013T073115Z
UID:21819-1760227200-1760313599@lsn-info.de
SUMMARY:LSN DMS Masters Landesentscheid 2025
DESCRIPTION:Ausschreibung:\nLSN DMSM 2025 | Ausschreibung \ndsv-Definitionsdatei:\nLSN DMSM 2025 | dsv-Definitionsdatei \n\nMeldeergebnis:\nLSN DMSM 2025 | Meldeergebnis \n\nProtokoll:\nLSN DMSM 2025 | Protokoll \ndsv-Ergebnisdatei:\nLSN DMSM 2025 | dsv-Ergebnisdatei \n  \n  \n 
URL:https://lsn-info.de/veranstaltung/lsn-dms-masters-landesentscheid-2025/
CATEGORIES:Schwimmen
ATTACH;FMTTYPE=image/png:https://lsn-info.de/wp-content/uploads/2023/02/LSN_logo.png
END:VEVENT
BEGIN:VEVENT
DTSTART;VALUE=DATE:20251011
DTEND;VALUE=DATE:20251013
DTSTAMP:20260425T060444
CREATED:20241207T155304Z
LAST-MODIFIED:20250905T195600Z
UID:19826-1760140800-1760313599@lsn-info.de
SUMMARY:LSN DMSJ Landesentscheid 2025
DESCRIPTION:Der LSN DMSJ Landesentscheid 2025 wird abgesagt. Da sich kein Ausrichter gefunden hat\, kann die Veranstaltung leider nicht stattfinden. \nNach Rücksprache mit dem zuständigen Sachbearbeiter DMSJ beim Deutschen Schwimmverband stellt sich die Qualifikation zum DMSJ Bundesentscheid ohne Landesentscheid wie folgt dar: Es wird anhand der Ergebnisse der DMSJ Bezirksentscheide eine LSN-Fernwertung erstellt. Anhand dieser Ergebnisse können sich die Mannschaften aus Niedersachsen dann für das Bundesfinale DMSJ in Wuppertal qualifizieren. Beim DMSJ Bezirksentscheid muss daher zwingend angegeben werden\, ob eine Mannschaft im Falle der Qualifikation am Bundesfinale teilnehmen würde. Eine LSN-Siegerehrung anhand der Fernwertung wird nicht stattfinden. \n  \n  \n  \n 
URL:https://lsn-info.de/veranstaltung/lsn-dmsj-landesentscheid/
CATEGORIES:Schwimmen
ATTACH;FMTTYPE=image/png:https://lsn-info.de/wp-content/uploads/2023/02/LSN_logo.png
END:VEVENT
BEGIN:VEVENT
DTSTART;VALUE=DATE:20250922
DTEND;VALUE=DATE:20250930
DTSTAMP:20260425T060444
CREATED:20250717T112947Z
LAST-MODIFIED:20250717T112947Z
UID:22201-1758499200-1759190399@lsn-info.de
SUMMARY:Mladi Galeb Turnier 2025 Makarska
DESCRIPTION:LSN-Auswahlmannschaft Turnier in Makarska/Kroatien \n 
URL:https://lsn-info.de/veranstaltung/mladi-galeb-turnier-2025-makarska/
CATEGORIES:Wasserball
ATTACH;FMTTYPE=image/png:https://lsn-info.de/wp-content/uploads/2025/07/MLADI-GALEB.png
END:VEVENT
BEGIN:VEVENT
DTSTART;VALUE=DATE:20250920
DTEND;VALUE=DATE:20250922
DTSTAMP:20260425T060444
CREATED:20250717T113353Z
LAST-MODIFIED:20250717T113557Z
UID:22206-1758326400-1758499199@lsn-info.de
SUMMARY:LSN Wasserball-Camp Hannover 2
DESCRIPTION:LSN Wasserball-Camp am Bundesstützpunkt Hannover für Jungen 2014 und jünger.
URL:https://lsn-info.de/veranstaltung/lsn-wasserball-camp-hannover-2/
LOCATION:Hannover – Sportleistungszentrum\, Ferdinand-Wilhelm-Fricke-Weg 2A\, Hannover\, 30169
CATEGORIES:Wasserball
ATTACH;FMTTYPE=image/jpeg:https://lsn-info.de/wp-content/uploads/2024/02/LSN.jpg
END:VEVENT
BEGIN:VEVENT
DTSTART;VALUE=DATE:20250913
DTEND;VALUE=DATE:20250915
DTSTAMP:20260425T060444
CREATED:20250716T131345Z
LAST-MODIFIED:20250716T131456Z
UID:22185-1757721600-1757894399@lsn-info.de
SUMMARY:Youngster-Trophy 2025
DESCRIPTION:Landesauswahlturnier der besten Mannschaften vom Zwergenpokal 2025. \nErgebnisse Zwergenpokal 2025 (Chemnitz): \n\nNiedersachsen\nBayern\nNRW\nBrandenburg\nSachsen\nBaden-Württemberg
URL:https://lsn-info.de/veranstaltung/youngster-trophy-2025/
LOCATION:Potsdam
ATTACH;FMTTYPE=image/png:https://lsn-info.de/wp-content/uploads/2025/07/Orcas-Potsdam.png
ORGANIZER;CN="Orcas Potsdam":MAILTO:info@potsdam-orcas.de
END:VEVENT
BEGIN:VEVENT
DTSTART;VALUE=DATE:20250913
DTEND;VALUE=DATE:20250915
DTSTAMP:20260425T060444
CREATED:20250717T082155Z
LAST-MODIFIED:20250717T082217Z
UID:22199-1757721600-1757894399@lsn-info.de
SUMMARY:Youngster-Trophy 2025
DESCRIPTION:LSN-Auswahlturnier U13 – nach Qualifikation durch den Zwergenpokal 2025 in Chemnitz \n  \n\nNiedersachsen\nBayern\nNRW\nBrandenburg\nSachsen\nBaden-Württemberg
URL:https://lsn-info.de/veranstaltung/youngster-trophy-2025-2/
LOCATION:Potsdam – Sportbad blu\, Brauhausberg 1\, Potsdam\, 14473
CATEGORIES:Wasserball
ATTACH;FMTTYPE=image/png:https://lsn-info.de/wp-content/uploads/2025/07/Orcas-Potsdam.png
ORGANIZER;CN="Orcas Potsdam":MAILTO:info@potsdam-orcas.de
END:VEVENT
BEGIN:VEVENT
DTSTART;VALUE=DATE:20250906
DTEND;VALUE=DATE:20250908
DTSTAMP:20260425T060444
CREATED:20250717T113227Z
LAST-MODIFIED:20250717T113632Z
UID:22204-1757116800-1757289599@lsn-info.de
SUMMARY:LSN Wasserball-Camp Hannover 1
DESCRIPTION:LSN Wasserball-Camp am Bundesstützpunkt Hannover für Jungen 2014 und jünger.
URL:https://lsn-info.de/veranstaltung/lsn-wasserball-camp-hannover/
LOCATION:Hannover – Sportleistungszentrum\, Ferdinand-Wilhelm-Fricke-Weg 2A\, Hannover\, 30169
CATEGORIES:Wasserball
ATTACH;FMTTYPE=image/jpeg:https://lsn-info.de/wp-content/uploads/2024/02/LSN.jpg
END:VEVENT
BEGIN:VEVENT
DTSTART;TZID=Europe/Berlin:20250830T130000
DTEND;TZID=Europe/Berlin:20250830T180000
DTSTAMP:20260425T060444
CREATED:20250306T121551Z
LAST-MODIFIED:20250718T093445Z
UID:20503-1756558800-1756576800@lsn-info.de
SUMMARY:Zentraler Landesvielseitigkeitstest
DESCRIPTION:Der zentrale Landesvielseitigkeitstest (LVT) ist eine Pflichtveranstaltung für alle Landeskader der Altersklassen 10-13 Jahren. \nFür 2025 betrifft dies die Jahrgänge 2012-2015. \nOhne Teilnahme am Landesvielseitigkeitstest (+ erreichen der Mindestpunktzahl) ist eine Aufnahme in den Landeskader nicht möglich. \nDie Testergebnisse eines dezentralen LVT’s an einem Stützpunkt reichen nicht für die Aufnahme in den Landeskader aus.  \n  \nAusschreibung LVT 2025: Ausschreibung zentraler LVT August 2025 \nMeldebogen für Vereine: Meldebogen_LVT_2025_Vorlage \nTestmanual LVT: 170215_Testmanual_LVT \nZur Meldung für den LVT ist der Meldebogen seitens des Vereins mit allen Sportlern auszufüllen\, die am LVT teilnehmen werden und per E-Mail an Tanita Hoppe zu senden. Alle Informationen zum LVT sind der Ausschreibung und dem zugeordneten Testmanual zu entnehmen. \n  \nBei Fragen bitte an Tanita Hoppe wenden – Leistungssportreferentin LSN: tanita.hoppe@lsn-info.de
URL:https://lsn-info.de/veranstaltung/zentraler-landesvielseitigkeitstest/
LOCATION:Hannover – Sportleistungszentrum\, Ferdinand-Wilhelm-Fricke-Weg 2A\, Hannover\, 30169
CATEGORIES:Schwimmen,Verband
ATTACH;FMTTYPE=image/jpeg:https://lsn-info.de/wp-content/uploads/2024/02/LSN.jpg
END:VEVENT
BEGIN:VEVENT
DTSTART;VALUE=DATE:20250830
DTEND;VALUE=DATE:20250831
DTSTAMP:20260425T060444
CREATED:20250212T164649Z
LAST-MODIFIED:20250831T184424Z
UID:20226-1756512000-1756598399@lsn-info.de
SUMMARY:LSN Freiwasser-Meisterschaften 2025
DESCRIPTION:LM Freiwasser mit Bezirkswertungen Braunschweig\, Hannover und Lüneburg. \nAusschreibung:\nLM FW 2025 | Ausschreibung (Stand 16.06.2025) \ndsv-Definitionsdatei:\nLM FW 2025 | dsv-Definitionsdatei \nHinweise des Ausrichters:\nLM FW 2025 | Hinweise \nMeldeergebnis:\nLM FW 2025 | Meldeergebnis \nZeitplan:\nLM FW 2025 | Zeitplan \nProtokoll:\nLM FW 2025 | Protokoll \ndsv-Ergebnisdatei:\nLM FW 2025 | dsv-Ergebnisdatei \nDie Online-Urkunden werden den Vereinen vom Ausrichter zugesandt. \n  \n  \n  \n  \n 
URL:https://lsn-info.de/veranstaltung/lsn-freiwasser-meisterschaften-2025/
LOCATION:Gifhorn – Tankumsee\, Dannenbütteler Weg 12\, Isenbüttel\, 38550
CATEGORIES:Schwimmen
ATTACH;FMTTYPE=image/png:https://lsn-info.de/wp-content/uploads/2023/02/LSN_logo.png
END:VEVENT
BEGIN:VEVENT
DTSTART;VALUE=DATE:20250829
DTEND;VALUE=DATE:20250901
DTSTAMP:20260425T060444
CREATED:20250717T113814Z
LAST-MODIFIED:20250717T113814Z
UID:22212-1756425600-1756684799@lsn-info.de
SUMMARY:LSN Wasserball-Camp Cuxhaven (Mädchen)
DESCRIPTION:LSN Wasserball-Camp am Landesstützpunkt Cuxhaven für Mädchen U14 und jünger.
URL:https://lsn-info.de/veranstaltung/lsn-wasserball-camp-cuxhaven-maedchen/
LOCATION:Freibad Oxstedt\, Ostermoorweg\, Cuxhaven\, Niedersachsen\, 27478\, Germany
CATEGORIES:Wasserball
ATTACH;FMTTYPE=image/jpeg:https://lsn-info.de/wp-content/uploads/2024/02/LSN.jpg
END:VEVENT
END:VCALENDAR