BEGIN:VCALENDAR
VERSION:2.0
PRODID:-//Landesschwimmverband Niedersachsen - ECPv6.15.11//NONSGML v1.0//EN
CALSCALE:GREGORIAN
METHOD:PUBLISH
X-ORIGINAL-URL:https://lsn-info.de
X-WR-CALDESC:Veranstaltungen für Landesschwimmverband Niedersachsen
REFRESH-INTERVAL;VALUE=DURATION:PT1H
X-Robots-Tag:noindex
X-PUBLISHED-TTL:PT1H
BEGIN:VTIMEZONE
TZID:Europe/Berlin
BEGIN:DAYLIGHT
TZOFFSETFROM:+0100
TZOFFSETTO:+0200
TZNAME:CEST
DTSTART:20250330T010000
END:DAYLIGHT
BEGIN:STANDARD
TZOFFSETFROM:+0200
TZOFFSETTO:+0100
TZNAME:CET
DTSTART:20251026T010000
END:STANDARD
BEGIN:DAYLIGHT
TZOFFSETFROM:+0100
TZOFFSETTO:+0200
TZNAME:CEST
DTSTART:20260329T010000
END:DAYLIGHT
BEGIN:STANDARD
TZOFFSETFROM:+0200
TZOFFSETTO:+0100
TZNAME:CET
DTSTART:20261025T010000
END:STANDARD
BEGIN:DAYLIGHT
TZOFFSETFROM:+0100
TZOFFSETTO:+0200
TZNAME:CEST
DTSTART:20270328T010000
END:DAYLIGHT
BEGIN:STANDARD
TZOFFSETFROM:+0200
TZOFFSETTO:+0100
TZNAME:CET
DTSTART:20271031T010000
END:STANDARD
END:VTIMEZONE
BEGIN:VEVENT
DTSTART;VALUE=DATE:20261121
DTEND;VALUE=DATE:20261123
DTSTAMP:20260425T201054
CREATED:20251120T121623Z
LAST-MODIFIED:20260225T182525Z
UID:23269-1795219200-1795391999@lsn-info.de
SUMMARY:NSV Norddeutscher Jugendländervergleich 2026
DESCRIPTION:
URL:https://lsn-info.de/veranstaltung/nsv-norddeutscher-jugendlaendervergleich-2026/
LOCATION:Potsdam – Sportbad blu\, Brauhausberg 1\, Potsdam\, 14473
CATEGORIES:Schwimmen
ATTACH;FMTTYPE=image/png:https://lsn-info.de/wp-content/uploads/2023/02/nsv-logo.png
END:VEVENT
END:VCALENDAR