BEGIN:VCALENDAR
VERSION:2.0
PRODID:-//Landesschwimmverband Niedersachsen - ECPv6.15.11//NONSGML v1.0//EN
CALSCALE:GREGORIAN
METHOD:PUBLISH
X-WR-CALNAME:Landesschwimmverband Niedersachsen
X-ORIGINAL-URL:https://lsn-info.de
X-WR-CALDESC:Veranstaltungen für Landesschwimmverband Niedersachsen
REFRESH-INTERVAL;VALUE=DURATION:PT1H
X-Robots-Tag:noindex
X-PUBLISHED-TTL:PT1H
BEGIN:VTIMEZONE
TZID:Europe/Berlin
BEGIN:DAYLIGHT
TZOFFSETFROM:+0100
TZOFFSETTO:+0200
TZNAME:CEST
DTSTART:20250330T010000
END:DAYLIGHT
BEGIN:STANDARD
TZOFFSETFROM:+0200
TZOFFSETTO:+0100
TZNAME:CET
DTSTART:20251026T010000
END:STANDARD
BEGIN:DAYLIGHT
TZOFFSETFROM:+0100
TZOFFSETTO:+0200
TZNAME:CEST
DTSTART:20260329T010000
END:DAYLIGHT
BEGIN:STANDARD
TZOFFSETFROM:+0200
TZOFFSETTO:+0100
TZNAME:CET
DTSTART:20261025T010000
END:STANDARD
BEGIN:DAYLIGHT
TZOFFSETFROM:+0100
TZOFFSETTO:+0200
TZNAME:CEST
DTSTART:20270328T010000
END:DAYLIGHT
BEGIN:STANDARD
TZOFFSETFROM:+0200
TZOFFSETTO:+0100
TZNAME:CET
DTSTART:20271031T010000
END:STANDARD
END:VTIMEZONE
BEGIN:VEVENT
DTSTART;VALUE=DATE:20261112
DTEND;VALUE=DATE:20261116
DTSTAMP:20260425T200938
CREATED:20251010T200938Z
LAST-MODIFIED:20251010T200938Z
UID:22806-1794441600-1794787199@lsn-info.de
SUMMARY:DSV Deutsche Kurzbahn-Meisterschaften 2026
DESCRIPTION:
URL:https://lsn-info.de/veranstaltung/dsv-deutsche-kurzbahn-meisterschaften-2026/
CATEGORIES:Schwimmen
ATTACH;FMTTYPE=image/png:https://lsn-info.de/wp-content/uploads/2023/02/dsv_logo1.png
END:VEVENT
BEGIN:VEVENT
DTSTART;VALUE=DATE:20261114
DTEND;VALUE=DATE:20261116
DTSTAMP:20260425T200938
CREATED:20251104T095034Z
LAST-MODIFIED:20251120T114405Z
UID:23038-1794614400-1794787199@lsn-info.de
SUMMARY:LSN Landesjahrgangsmeisterschaften Kurzbahn 2026
DESCRIPTION:Bewerbungen zur Ausrichtung bitte bis 30.03.2026 an den LSN-Schwimmwart
URL:https://lsn-info.de/veranstaltung/lsn-landesjahrgangsmeisterschaften-kurzbahn-2026/
CATEGORIES:Schwimmen
ATTACH;FMTTYPE=image/png:https://lsn-info.de/wp-content/uploads/2023/02/LSN_logo.png
END:VEVENT
END:VCALENDAR