BEGIN:VCALENDAR
VERSION:2.0
PRODID:-//Landesschwimmverband Niedersachsen - ECPv6.15.11//NONSGML v1.0//EN
CALSCALE:GREGORIAN
METHOD:PUBLISH
X-WR-CALNAME:Landesschwimmverband Niedersachsen
X-ORIGINAL-URL:https://lsn-info.de
X-WR-CALDESC:Veranstaltungen für Landesschwimmverband Niedersachsen
REFRESH-INTERVAL;VALUE=DURATION:PT1H
X-Robots-Tag:noindex
X-PUBLISHED-TTL:PT1H
BEGIN:VTIMEZONE
TZID:Europe/Berlin
BEGIN:DAYLIGHT
TZOFFSETFROM:+0100
TZOFFSETTO:+0200
TZNAME:CEST
DTSTART:20240331T010000
END:DAYLIGHT
BEGIN:STANDARD
TZOFFSETFROM:+0200
TZOFFSETTO:+0100
TZNAME:CET
DTSTART:20241027T010000
END:STANDARD
BEGIN:DAYLIGHT
TZOFFSETFROM:+0100
TZOFFSETTO:+0200
TZNAME:CEST
DTSTART:20250330T010000
END:DAYLIGHT
BEGIN:STANDARD
TZOFFSETFROM:+0200
TZOFFSETTO:+0100
TZNAME:CET
DTSTART:20251026T010000
END:STANDARD
BEGIN:DAYLIGHT
TZOFFSETFROM:+0100
TZOFFSETTO:+0200
TZNAME:CEST
DTSTART:20260329T010000
END:DAYLIGHT
BEGIN:STANDARD
TZOFFSETFROM:+0200
TZOFFSETTO:+0100
TZNAME:CET
DTSTART:20261025T010000
END:STANDARD
END:VTIMEZONE
BEGIN:VEVENT
DTSTART;VALUE=DATE:20251121
DTEND;VALUE=DATE:20251124
DTSTAMP:20260425T165619
CREATED:20250716T130526Z
LAST-MODIFIED:20250716T130526Z
UID:22182-1763683200-1763942399@lsn-info.de
SUMMARY:Nico Trophy 2025
DESCRIPTION:Landesauswahlturnier der Jahrgänge 2013-2016
URL:https://lsn-info.de/veranstaltung/nico-trophy-2025/
LOCATION:Stuttgart – Sportbad Neckarpark\, Lenore-Volz-Straße 2\, Stuttgart
CATEGORIES:Wasserball
ATTACH;FMTTYPE=image/png:https://lsn-info.de/wp-content/uploads/2025/07/Logo-BaWue.png
END:VEVENT
BEGIN:VEVENT
DTSTART;VALUE=DATE:20251122
DTEND;VALUE=DATE:20251123
DTSTAMP:20260425T165619
CREATED:20241207T160335Z
LAST-MODIFIED:20251122T132929Z
UID:19847-1763769600-1763855999@lsn-info.de
SUMMARY:NSV Norddeutscher Nachwuchsländerkampf 2025
DESCRIPTION:Der Norddeutsche Nachwuchsländerkampf ist ein Vergleichswettkampf der Norddeutschen Auswahlmannschaften in Berlin. \nDer LSN nominiert nach den Landeskurzbahnmeisterschaft der Jahrgänge das Auswahlteam und lädt dies ein. \nIn diesem Jahr starten die Jahrgänge 2013-2015. \nBeginn der Veranstaltung ist Freitag\, der 21.11.2025 mit einem Kennenlernen und gemeinsamen Training der Auswahlmannschaft in Hannover. Danach fährt das Team gemeinsam mit dem Reisebus nach Berlin und übernachtet in einem Jugendhotel. Samstag nach dem Wettkampf fährt das Team wieder gemeinsam mit dem Reisebus nach Hannover. \nInformationen zum Wettkampf ist der Ausschreibung zu entnehmen: 2025nwlk \nMeldeergebnis und Protokoll sind der Veranstaltungsseite zu entnehmen: Meldeergebnisse – schwimmen.berlin \n\nProtokoll:\nNNLK 2025 | Protokoll \ndsv-Ergebnisdatei:\nNNLK 2025 | dsv-Ergebnisdatei \n 
URL:https://lsn-info.de/veranstaltung/nsv-norddeutscher-nachwuchslaenderkampf-2025/
CATEGORIES:Schwimmen
ATTACH;FMTTYPE=image/png:https://lsn-info.de/wp-content/uploads/2023/02/nsv-logo.png
END:VEVENT
BEGIN:VEVENT
DTSTART;VALUE=DATE:20251122
DTEND;VALUE=DATE:20251124
DTSTAMP:20260425T165619
CREATED:20241207T160425Z
LAST-MODIFIED:20251123T205508Z
UID:19849-1763769600-1763942399@lsn-info.de
SUMMARY:NSV Norddeutscher Jugendländervergleich 2025
DESCRIPTION:Der Norddeutsche Jugendländervergleich ist ein Vergleichswettkampf der Norddeutschen Auswahlmannschaften. \nDer LSN nominiert nach den Landeskurzbahnmeisterschaft (Jahrgang 2012 nach der Landeskurzbahnmeisterschaft der Jahrgänge) das Auswahlteam und lädt dies ein. \nIn diesem Jahr starten die Jahrgänge 2010-2012. \nBeginn der Veranstaltung ist Freitag\, der 21.11.2025 mit einem kennenlernen und gemeinsamen Training der Auswahlmannschaft in Hannover. Danach fährt das Team gemeinsam mit dem Reisebus nach Lübeck und übernachtet in einer Jugendherberge. Samstag und Sonntag findet der Wettkampf statt. Nach dem Wettkampf fährt das Team wieder gemeinsam mit dem Reisebus zurück nach Hannover. \nInformationen zum Wettkampf ist Ausschreibung zu entnehmen: Jugendlaendervergleich-2025-Ausschreibung \n\nProtokoll:\nNLV 2025 | Protokoll \ndsv-Ergebnisdatei:\nNLV 2025 | dsv-Ergebnisdatei \n 
URL:https://lsn-info.de/veranstaltung/nsv-norddeutsche-jugendlaendervergleich-2025/
CATEGORIES:Schwimmen
ATTACH;FMTTYPE=image/png:https://lsn-info.de/wp-content/uploads/2023/02/nsv-logo.png
END:VEVENT
END:VCALENDAR