BEGIN:VCALENDAR
VERSION:2.0
PRODID:-//Landesschwimmverband Niedersachsen - ECPv6.15.11//NONSGML v1.0//EN
CALSCALE:GREGORIAN
METHOD:PUBLISH
X-WR-CALNAME:Landesschwimmverband Niedersachsen
X-ORIGINAL-URL:https://lsn-info.de
X-WR-CALDESC:Veranstaltungen für Landesschwimmverband Niedersachsen
REFRESH-INTERVAL;VALUE=DURATION:PT1H
X-Robots-Tag:noindex
X-PUBLISHED-TTL:PT1H
BEGIN:VTIMEZONE
TZID:Europe/Berlin
BEGIN:DAYLIGHT
TZOFFSETFROM:+0100
TZOFFSETTO:+0200
TZNAME:CEST
DTSTART:20240331T010000
END:DAYLIGHT
BEGIN:STANDARD
TZOFFSETFROM:+0200
TZOFFSETTO:+0100
TZNAME:CET
DTSTART:20241027T010000
END:STANDARD
BEGIN:DAYLIGHT
TZOFFSETFROM:+0100
TZOFFSETTO:+0200
TZNAME:CEST
DTSTART:20250330T010000
END:DAYLIGHT
BEGIN:STANDARD
TZOFFSETFROM:+0200
TZOFFSETTO:+0100
TZNAME:CET
DTSTART:20251026T010000
END:STANDARD
BEGIN:DAYLIGHT
TZOFFSETFROM:+0100
TZOFFSETTO:+0200
TZNAME:CEST
DTSTART:20260329T010000
END:DAYLIGHT
BEGIN:STANDARD
TZOFFSETFROM:+0200
TZOFFSETTO:+0100
TZNAME:CET
DTSTART:20261025T010000
END:STANDARD
END:VTIMEZONE
BEGIN:VEVENT
DTSTART;VALUE=DATE:20251101
DTEND;VALUE=DATE:20251103
DTSTAMP:20260425T164119
CREATED:20241207T155415Z
LAST-MODIFIED:20251102T192223Z
UID:19828-1761955200-1762127999@lsn-info.de
SUMMARY:LSN Landeskurzbahnmeisterschaften 2025
DESCRIPTION:Ausschreibung:\nLKM 2025 | Ausschreibung \ndsv-Definitionsdatei:\nLKM 2025 | dsv-Definitionsdatei \nBitte beachtet die Abmelderegelung für die Strecken ab 400m! Alle anderen Strecken können nicht abgemeldet werden. \n\nMeldeergebnis:\nLKM 2025 | Meldeergebnis (aktueller Stand 26.10. – 13:51 Uhr) \nDie markierten Meldeergebnisse je Verein sowie die Bahnverteilung je Verein findet Ihr auf der Veranstaltungsseite des Ausrichters. \n\nProtokoll:\nLKM 2025 | Protokoll \ndsv-Ergebnisdatei:\nLKM 2025 | dsv-Ergebnisdatei \nENM-Übersicht:\nLKM 2025 | ENM-Übersicht \n  \n  \n 
URL:https://lsn-info.de/veranstaltung/lsn-landeskurzbahnmeisterschaften-2025/
LOCATION:Hannover – Stadionbad\, Robert-Enke-Str. 5\, Hannover\, 30169
CATEGORIES:Schwimmen
ATTACH;FMTTYPE=image/png:https://lsn-info.de/wp-content/uploads/2023/02/LSN_logo.png
END:VEVENT
END:VCALENDAR